BEGIN:VCALENDAR
VERSION:2.0
PRODID:-//Ascender - ECPv6.15.20//NONSGML v1.0//EN
CALSCALE:GREGORIAN
METHOD:PUBLISH
X-WR-CALNAME:Ascender
X-ORIGINAL-URL:https://ascenderpgh.com
X-WR-CALDESC:Events for Ascender
REFRESH-INTERVAL;VALUE=DURATION:PT1H
X-Robots-Tag:noindex
X-PUBLISHED-TTL:PT1H
BEGIN:VTIMEZONE
TZID:America/New_York
BEGIN:DAYLIGHT
TZOFFSETFROM:-0500
TZOFFSETTO:-0400
TZNAME:EDT
DTSTART:20250309T070000
END:DAYLIGHT
BEGIN:STANDARD
TZOFFSETFROM:-0400
TZOFFSETTO:-0500
TZNAME:EST
DTSTART:20251102T060000
END:STANDARD
BEGIN:DAYLIGHT
TZOFFSETFROM:-0500
TZOFFSETTO:-0400
TZNAME:EDT
DTSTART:20260308T070000
END:DAYLIGHT
BEGIN:STANDARD
TZOFFSETFROM:-0400
TZOFFSETTO:-0500
TZNAME:EST
DTSTART:20261101T060000
END:STANDARD
BEGIN:DAYLIGHT
TZOFFSETFROM:-0500
TZOFFSETTO:-0400
TZNAME:EDT
DTSTART:20270314T070000
END:DAYLIGHT
BEGIN:STANDARD
TZOFFSETFROM:-0400
TZOFFSETTO:-0500
TZNAME:EST
DTSTART:20271107T060000
END:STANDARD
END:VTIMEZONE
BEGIN:VEVENT
DTSTART;TZID=America/New_York:20260310T120000
DTEND;TZID=America/New_York:20260310T133000
DTSTAMP:20260423T154338
CREATED:20260117T201853Z
LAST-MODIFIED:20260117T201853Z
UID:22258-1773144000-1773149400@ascenderpgh.com
SUMMARY:Members Event: Pi Day Pie Contest
DESCRIPTION:We’re hosting our annual Pi Day Pie Contest! 🥧 Bring your best pie to the kitchen\, sample the entries\, and cast your vote for a favorite. The winning pie (and baker!) will take home a trophy and some serious bragging rights. \nLet us know if you’re coming by emailing info@ascenderpgh.com.
URL:https://ascenderpgh.com/event/members-event-pi-day-pie-contest/
LOCATION:Ascender\, 6401 Penn Ave 3rd Floor\, Pittsburgh\, PA\, 15206\, United States
CATEGORIES:Member Event
ATTACH;FMTTYPE=image/png:https://ascenderpgh.com/wp-content/uploads/2026/01/Newsletter-Banners-12.png
ORGANIZER;CN="Ascender":MAILTO:info@ascenderpgh.com
END:VEVENT
BEGIN:VEVENT
DTSTART;TZID=America/New_York:20260317T120000
DTEND;TZID=America/New_York:20260317T130000
DTSTAMP:20260423T154338
CREATED:20260225T160702Z
LAST-MODIFIED:20260225T160702Z
UID:22688-1773748800-1773752400@ascenderpgh.com
SUMMARY:Problem Solving Sessions at Ascender
DESCRIPTION:Building a business comes with real challenges\, and you don’t have to tackle them alone. Our Problem Solving Sessions create a collaborative space where Ascender members can bring a real business challenge and receive thoughtful feedback and fresh perspectives from fellow founders and the Ascender community.\n\n\n\n\n\n\n\n\n\n\n\n\nHeld every 3rd Tuesday of each month\, come ready to share\, listen\, and solve together.
URL:https://ascenderpgh.com/event/problem-solving-sessions-at-ascender-2/
LOCATION:Ascender\, 6401 Penn Ave 3rd Floor\, Pittsburgh\, PA\, 15206\, United States
CATEGORIES:Member Event
ATTACH;FMTTYPE=image/png:https://ascenderpgh.com/wp-content/uploads/2026/01/Newsletter-Banners-4.png
ORGANIZER;CN="Ascender":MAILTO:info@ascenderpgh.com
END:VEVENT
BEGIN:VEVENT
DTSTART;TZID=America/New_York:20260325T120000
DTEND;TZID=America/New_York:20260325T130000
DTSTAMP:20260423T154338
CREATED:20260225T160543Z
LAST-MODIFIED:20260225T160543Z
UID:22686-1774440000-1774443600@ascenderpgh.com
SUMMARY:Brown Bag Lunch at Ascender
DESCRIPTION:Bring your lunch and join us for a casual\, interactive learning experience designed for founders who are actively building. Each session focuses on a practical business topic\, broken down at a foundational level so you can learn\, ask questions\, and walk away with insights you can immediately implement. Along the way\, you’ll connect with fellow Ascender members\, meet new founders\, and share real experiences from your entrepreneurial journey. \nHappening the last Wednesday of every month\, come grow\, learn\, and build community with us.
URL:https://ascenderpgh.com/event/brown-bag-lunch-at-ascender-2/
LOCATION:Ascender\, 6401 Penn Ave 3rd Floor\, Pittsburgh\, PA\, 15206\, United States
CATEGORIES:Member Event
ATTACH;FMTTYPE=image/png:https://ascenderpgh.com/wp-content/uploads/2026/01/Newsletter-Banners-3.png
ORGANIZER;CN="Ascender":MAILTO:info@ascenderpgh.com
END:VEVENT
END:VCALENDAR