BEGIN:VCALENDAR
VERSION:2.0
PRODID:-//Ascender - ECPv6.15.20//NONSGML v1.0//EN
CALSCALE:GREGORIAN
METHOD:PUBLISH
X-ORIGINAL-URL:https://ascenderpgh.com
X-WR-CALDESC:Events for Ascender
REFRESH-INTERVAL;VALUE=DURATION:PT1H
X-Robots-Tag:noindex
X-PUBLISHED-TTL:PT1H
BEGIN:VTIMEZONE
TZID:America/New_York
BEGIN:DAYLIGHT
TZOFFSETFROM:-0500
TZOFFSETTO:-0400
TZNAME:EDT
DTSTART:20250309T070000
END:DAYLIGHT
BEGIN:STANDARD
TZOFFSETFROM:-0400
TZOFFSETTO:-0500
TZNAME:EST
DTSTART:20251102T060000
END:STANDARD
BEGIN:DAYLIGHT
TZOFFSETFROM:-0500
TZOFFSETTO:-0400
TZNAME:EDT
DTSTART:20260308T070000
END:DAYLIGHT
BEGIN:STANDARD
TZOFFSETFROM:-0400
TZOFFSETTO:-0500
TZNAME:EST
DTSTART:20261101T060000
END:STANDARD
BEGIN:DAYLIGHT
TZOFFSETFROM:-0500
TZOFFSETTO:-0400
TZNAME:EDT
DTSTART:20270314T070000
END:DAYLIGHT
BEGIN:STANDARD
TZOFFSETFROM:-0400
TZOFFSETTO:-0500
TZNAME:EST
DTSTART:20271107T060000
END:STANDARD
END:VTIMEZONE
BEGIN:VEVENT
DTSTART;TZID=America/New_York:20260602T100000
DTEND;TZID=America/New_York:20260602T120000
DTSTAMP:20260423T193042
CREATED:20260331T133537Z
LAST-MODIFIED:20260331T133537Z
UID:22929-1780394400-1780401600@ascenderpgh.com
SUMMARY:Product Strategy Office Hours with Mike Capsambelis
DESCRIPTION:Book a FREE 30-minute session with Mike\, Director\, Product Management\, Google.
URL:https://ascenderpgh.com/event/product-strategy-office-hours-with-mike-capsambelis-20/
LOCATION:Ascender\, 6401 Penn Ave 3rd Floor\, Pittsburgh\, PA\, 15206\, United States
CATEGORIES:Community
ATTACH;FMTTYPE=image/jpeg:https://ascenderpgh.com/wp-content/uploads/2025/06/Office-Hours-2024-2025-e1752174904903.jpg
ORGANIZER;CN="Ascender":MAILTO:info@ascenderpgh.com
END:VEVENT
BEGIN:VEVENT
DTSTART;TZID=America/New_York:20260603T100000
DTEND;TZID=America/New_York:20260603T120000
DTSTAMP:20260423T193042
CREATED:20260331T133056Z
LAST-MODIFIED:20260331T133056Z
UID:22923-1780480800-1780488000@ascenderpgh.com
SUMMARY:Executive Coaching & Business Strategy Office Hours with Erin Bestic
DESCRIPTION:Bring your toughest business challenges\, half-baked ideas\, and “we need this done yesterday” problems. In these candid\, action-focused sessions\, you’ll get practical\, no-fluff guidance from Erin Bestic\, a strategist who’s led billion-dollar sales portfolios\, overhauled operations\, and coached leaders at every stage of growth. \nBook your Free 30-Minutes
URL:https://ascenderpgh.com/event/executive-coaching-business-strategy-office-hours-with-erin-bestic-11/
LOCATION:Ascender\, 6401 Penn Ave 3rd Floor\, Pittsburgh\, PA\, 15206\, United States
CATEGORIES:Community
ATTACH;FMTTYPE=image/jpeg:https://ascenderpgh.com/wp-content/uploads/2025/11/Office-Hours-2024-2025-e1765251047633.jpg
ORGANIZER;CN="Ascender":MAILTO:info@ascenderpgh.com
END:VEVENT
BEGIN:VEVENT
DTSTART;TZID=America/New_York:20260604T120000
DTEND;TZID=America/New_York:20260604T140000
DTSTAMP:20260423T193042
CREATED:20260325T135623Z
LAST-MODIFIED:20260325T135623Z
UID:22894-1780574400-1780581600@ascenderpgh.com
SUMMARY:Marketing & Brand Strategy Office Hours with Madeline Farina
DESCRIPTION:Madeline Farina is a Pittsburgh-based marketing consultant who helps founders and small business owners build authentic brands\, clarify their message\, and create marketing strategies that attract the right customers while staying true to their values. She brings experience across startups\, small businesses\, and larger organizations\, and loves supporting entrepreneurs with the businesses they’re building. \n“What to Expect” Overview \n\n– Clarifying their brand and messaging\, including ideal customer\, positioning\, and how to talk about what they do.\n– Practical marketing strategy questions such as what to post on social media\, how to improve their website\, or how to promote an upcoming launch or event.\n– Feedback on existing materials like Instagram accounts\, websites\, email newsletters\, or marketing ideas they want to pressure-test.\n\nREGISTER HERE
URL:https://ascenderpgh.com/event/marketing-brand-strategy-office-hours-with-madeline-farina-7/
LOCATION:Ascender\, 6401 Penn Ave 3rd Floor\, Pittsburgh\, PA\, 15206\, United States
CATEGORIES:Community
ATTACH;FMTTYPE=image/jpeg:https://ascenderpgh.com/wp-content/uploads/2026/02/Office-Hours-2024-2025-1-e1770136478395.jpg
ORGANIZER;CN="Ascender":MAILTO:info@ascenderpgh.com
END:VEVENT
BEGIN:VEVENT
DTSTART;TZID=America/New_York:20260616T100000
DTEND;TZID=America/New_York:20260616T120000
DTSTAMP:20260423T193042
CREATED:20260331T133654Z
LAST-MODIFIED:20260331T133654Z
UID:22931-1781604000-1781611200@ascenderpgh.com
SUMMARY:Product Strategy Office Hours with Mike Capsambelis
DESCRIPTION:Book a FREE 30-minute session with Mike\, Director\, Product Management\, Google.
URL:https://ascenderpgh.com/event/product-strategy-office-hours-with-mike-capsambelis-21/
LOCATION:Ascender\, 6401 Penn Ave 3rd Floor\, Pittsburgh\, PA\, 15206\, United States
CATEGORIES:Community
ATTACH;FMTTYPE=image/jpeg:https://ascenderpgh.com/wp-content/uploads/2025/06/Office-Hours-2024-2025-e1752174904903.jpg
ORGANIZER;CN="Ascender":MAILTO:info@ascenderpgh.com
END:VEVENT
BEGIN:VEVENT
DTSTART;TZID=America/New_York:20260618T120000
DTEND;TZID=America/New_York:20260618T140000
DTSTAMP:20260423T193042
CREATED:20260325T135755Z
LAST-MODIFIED:20260325T135755Z
UID:22896-1781784000-1781791200@ascenderpgh.com
SUMMARY:Marketing & Brand Strategy Office Hours with Madeline Farina
DESCRIPTION:Madeline Farina is a Pittsburgh-based marketing consultant who helps founders and small business owners build authentic brands\, clarify their message\, and create marketing strategies that attract the right customers while staying true to their values. She brings experience across startups\, small businesses\, and larger organizations\, and loves supporting entrepreneurs with the businesses they’re building. \n“What to Expect” Overview \n\n– Clarifying their brand and messaging\, including ideal customer\, positioning\, and how to talk about what they do.\n– Practical marketing strategy questions such as what to post on social media\, how to improve their website\, or how to promote an upcoming launch or event.\n– Feedback on existing materials like Instagram accounts\, websites\, email newsletters\, or marketing ideas they want to pressure-test.\n\nREGISTER HERE
URL:https://ascenderpgh.com/event/marketing-brand-strategy-office-hours-with-madeline-farina-8/
LOCATION:Ascender\, 6401 Penn Ave 3rd Floor\, Pittsburgh\, PA\, 15206\, United States
CATEGORIES:Community
ATTACH;FMTTYPE=image/jpeg:https://ascenderpgh.com/wp-content/uploads/2026/02/Office-Hours-2024-2025-1-e1770136478395.jpg
ORGANIZER;CN="Ascender":MAILTO:info@ascenderpgh.com
END:VEVENT
BEGIN:VEVENT
DTSTART;TZID=America/New_York:20260624T120000
DTEND;TZID=America/New_York:20260624T130000
DTSTAMP:20260423T193042
CREATED:20260319T185216Z
LAST-MODIFIED:20260319T185216Z
UID:22852-1782302400-1782306000@ascenderpgh.com
SUMMARY:Brown Bag Lunch at Ascender
DESCRIPTION:Bring your lunch and join us for a casual\, interactive learning experience designed for founders who are actively building. Each session focuses on a practical business topic\, broken down at a foundational level so you can learn\, ask questions\, and walk away with insights you can immediately implement. Along the way\, you’ll connect with fellow Ascender members\, meet new founders\, and share real experiences from your entrepreneurial journey. \nHappening the last Wednesday of every month\, come grow\, learn\, and build community with us.
URL:https://ascenderpgh.com/event/brown-bag-lunch-at-ascender-5/
LOCATION:Ascender\, 6401 Penn Ave 3rd Floor\, Pittsburgh\, PA\, 15206\, United States
CATEGORIES:Community
ATTACH;FMTTYPE=image/png:https://ascenderpgh.com/wp-content/uploads/2026/01/Newsletter-Banners-3.png
ORGANIZER;CN="Ascender":MAILTO:info@ascenderpgh.com
END:VEVENT
BEGIN:VEVENT
DTSTART;TZID=America/New_York:20260625T130000
DTEND;TZID=America/New_York:20260625T160000
DTSTAMP:20260423T193042
CREATED:20260325T141115Z
LAST-MODIFIED:20260325T141115Z
UID:22908-1782392400-1782403200@ascenderpgh.com
SUMMARY:Tech & Law Office Hours with Wei Yu
DESCRIPTION:Navigating legal stuff in the AI era Book a FREE 30-minute session with Wei\, an Intellectual Property Attorney. Use this link to schedule a session with Wei.
URL:https://ascenderpgh.com/event/tech-law-office-hours-with-wei-yu-8/
LOCATION:Ascender\, 6401 Penn Ave 3rd Floor\, Pittsburgh\, PA\, 15206\, United States
CATEGORIES:Community
ATTACH;FMTTYPE=image/png:https://ascenderpgh.com/wp-content/uploads/2024/09/Wei-Yu-e1727191350120.png
ORGANIZER;CN="Ascender":MAILTO:info@ascenderpgh.com
END:VEVENT
BEGIN:VEVENT
DTSTART;TZID=America/New_York:20260630T100000
DTEND;TZID=America/New_York:20260630T120000
DTSTAMP:20260423T193042
CREATED:20260331T133823Z
LAST-MODIFIED:20260331T133823Z
UID:22933-1782813600-1782820800@ascenderpgh.com
SUMMARY:Product Strategy Office Hours with Mike Capsambelis
DESCRIPTION:Book a FREE 30-minute session with Mike\, Director\, Product Management\, Google.
URL:https://ascenderpgh.com/event/product-strategy-office-hours-with-mike-capsambelis-22/
LOCATION:Ascender\, 6401 Penn Ave 3rd Floor\, Pittsburgh\, PA\, 15206\, United States
CATEGORIES:Community
ATTACH;FMTTYPE=image/jpeg:https://ascenderpgh.com/wp-content/uploads/2025/06/Office-Hours-2024-2025-e1752174904903.jpg
ORGANIZER;CN="Ascender":MAILTO:info@ascenderpgh.com
END:VEVENT
BEGIN:VEVENT
DTSTART;TZID=America/New_York:20260729T120000
DTEND;TZID=America/New_York:20260729T130000
DTSTAMP:20260423T193042
CREATED:20260319T185330Z
LAST-MODIFIED:20260319T185330Z
UID:22854-1785326400-1785330000@ascenderpgh.com
SUMMARY:Brown Bag Lunch at Ascender
DESCRIPTION:Bring your lunch and join us for a casual\, interactive learning experience designed for founders who are actively building. Each session focuses on a practical business topic\, broken down at a foundational level so you can learn\, ask questions\, and walk away with insights you can immediately implement. Along the way\, you’ll connect with fellow Ascender members\, meet new founders\, and share real experiences from your entrepreneurial journey. \nHappening the last Wednesday of every month\, come grow\, learn\, and build community with us.
URL:https://ascenderpgh.com/event/brown-bag-lunch-at-ascender-6/
LOCATION:Ascender\, 6401 Penn Ave 3rd Floor\, Pittsburgh\, PA\, 15206\, United States
CATEGORIES:Community
ATTACH;FMTTYPE=image/png:https://ascenderpgh.com/wp-content/uploads/2026/01/Newsletter-Banners-3.png
ORGANIZER;CN="Ascender":MAILTO:info@ascenderpgh.com
END:VEVENT
BEGIN:VEVENT
DTSTART;TZID=America/New_York:20260826T120000
DTEND;TZID=America/New_York:20260826T130000
DTSTAMP:20260423T193042
CREATED:20260319T185630Z
LAST-MODIFIED:20260319T185630Z
UID:22856-1787745600-1787749200@ascenderpgh.com
SUMMARY:Brown Bag Lunch at Ascender
DESCRIPTION:Bring your lunch and join us for a casual\, interactive learning experience designed for founders who are actively building. Each session focuses on a practical business topic\, broken down at a foundational level so you can learn\, ask questions\, and walk away with insights you can immediately implement. Along the way\, you’ll connect with fellow Ascender members\, meet new founders\, and share real experiences from your entrepreneurial journey. \nHappening the last Wednesday of every month\, come grow\, learn\, and build community with us.
URL:https://ascenderpgh.com/event/brown-bag-lunch-at-ascender-7/
LOCATION:Ascender\, 6401 Penn Ave 3rd Floor\, Pittsburgh\, PA\, 15206\, United States
CATEGORIES:Community
ATTACH;FMTTYPE=image/png:https://ascenderpgh.com/wp-content/uploads/2026/01/Newsletter-Banners-3.png
ORGANIZER;CN="Ascender":MAILTO:info@ascenderpgh.com
END:VEVENT
BEGIN:VEVENT
DTSTART;TZID=America/New_York:20260923T120000
DTEND;TZID=America/New_York:20260923T130000
DTSTAMP:20260423T193042
CREATED:20260319T185909Z
LAST-MODIFIED:20260319T185909Z
UID:22858-1790164800-1790168400@ascenderpgh.com
SUMMARY:Brown Bag Lunch at Ascender
DESCRIPTION:Bring your lunch and join us for a casual\, interactive learning experience designed for founders who are actively building. Each session focuses on a practical business topic\, broken down at a foundational level so you can learn\, ask questions\, and walk away with insights you can immediately implement. Along the way\, you’ll connect with fellow Ascender members\, meet new founders\, and share real experiences from your entrepreneurial journey. \nHappening the last Wednesday of every month\, come grow\, learn\, and build community with us.
URL:https://ascenderpgh.com/event/brown-bag-lunch-at-ascender-8/
LOCATION:Ascender\, 6401 Penn Ave 3rd Floor\, Pittsburgh\, PA\, 15206\, United States
CATEGORIES:Community
ATTACH;FMTTYPE=image/png:https://ascenderpgh.com/wp-content/uploads/2026/01/Newsletter-Banners-3.png
ORGANIZER;CN="Ascender":MAILTO:info@ascenderpgh.com
END:VEVENT
BEGIN:VEVENT
DTSTART;TZID=America/New_York:20261028T120000
DTEND;TZID=America/New_York:20261028T130000
DTSTAMP:20260423T193042
CREATED:20260319T190131Z
LAST-MODIFIED:20260319T190131Z
UID:22860-1793188800-1793192400@ascenderpgh.com
SUMMARY:Brown Bag Lunch at Ascender
DESCRIPTION:Bring your lunch and join us for a casual\, interactive learning experience designed for founders who are actively building. Each session focuses on a practical business topic\, broken down at a foundational level so you can learn\, ask questions\, and walk away with insights you can immediately implement. Along the way\, you’ll connect with fellow Ascender members\, meet new founders\, and share real experiences from your entrepreneurial journey. \nHappening the last Wednesday of every month\, come grow\, learn\, and build community with us.
URL:https://ascenderpgh.com/event/brown-bag-lunch-at-ascender-9/
LOCATION:Ascender\, 6401 Penn Ave 3rd Floor\, Pittsburgh\, PA\, 15206\, United States
CATEGORIES:Community
ATTACH;FMTTYPE=image/png:https://ascenderpgh.com/wp-content/uploads/2026/01/Newsletter-Banners-3.png
ORGANIZER;CN="Ascender":MAILTO:info@ascenderpgh.com
END:VEVENT
BEGIN:VEVENT
DTSTART;TZID=America/New_York:20261125T120000
DTEND;TZID=America/New_York:20261125T130000
DTSTAMP:20260423T193042
CREATED:20260319T190248Z
LAST-MODIFIED:20260319T190528Z
UID:22862-1795608000-1795611600@ascenderpgh.com
SUMMARY:Brown Bag Lunch at Ascender
DESCRIPTION:Bring your lunch and join us for a casual\, interactive learning experience designed for founders who are actively building. Each session focuses on a practical business topic\, broken down at a foundational level so you can learn\, ask questions\, and walk away with insights you can immediately implement. Along the way\, you’ll connect with fellow Ascender members\, meet new founders\, and share real experiences from your entrepreneurial journey. \nHappening the last Wednesday of every month\, come grow\, learn\, and build community with us.
URL:https://ascenderpgh.com/event/brown-bag-lunch-at-ascender-10/
LOCATION:Ascender\, 6401 Penn Ave 3rd Floor\, Pittsburgh\, PA\, 15206\, United States
CATEGORIES:Community
ATTACH;FMTTYPE=image/png:https://ascenderpgh.com/wp-content/uploads/2026/01/Newsletter-Banners-3.png
ORGANIZER;CN="Ascender":MAILTO:info@ascenderpgh.com
END:VEVENT
BEGIN:VEVENT
DTSTART;TZID=America/New_York:20261223T000000
DTEND;TZID=America/New_York:20261223T130000
DTSTAMP:20260423T193042
CREATED:20260319T190441Z
LAST-MODIFIED:20260319T190441Z
UID:22864-1797984000-1798030800@ascenderpgh.com
SUMMARY:Brown Bag Lunch at Ascender
DESCRIPTION:Bring your lunch and join us for a casual\, interactive learning experience designed for founders who are actively building. Each session focuses on a practical business topic\, broken down at a foundational level so you can learn\, ask questions\, and walk away with insights you can immediately implement. Along the way\, you’ll connect with fellow Ascender members\, meet new founders\, and share real experiences from your entrepreneurial journey. \nHappening the last Wednesday of every month\, come grow\, learn\, and build community with us.
URL:https://ascenderpgh.com/event/brown-bag-lunch-at-ascender-11/
LOCATION:Ascender\, 6401 Penn Ave 3rd Floor\, Pittsburgh\, PA\, 15206\, United States
CATEGORIES:Community
ATTACH;FMTTYPE=image/png:https://ascenderpgh.com/wp-content/uploads/2026/01/Newsletter-Banners-3.png
ORGANIZER;CN="Ascender":MAILTO:info@ascenderpgh.com
END:VEVENT
END:VCALENDAR