BEGIN:VCALENDAR
VERSION:2.0
PRODID:-//Ascender - ECPv6.15.20//NONSGML v1.0//EN
CALSCALE:GREGORIAN
METHOD:PUBLISH
X-ORIGINAL-URL:https://ascenderpgh.com
X-WR-CALDESC:Events for Ascender
REFRESH-INTERVAL;VALUE=DURATION:PT1H
X-Robots-Tag:noindex
X-PUBLISHED-TTL:PT1H
BEGIN:VTIMEZONE
TZID:America/New_York
BEGIN:DAYLIGHT
TZOFFSETFROM:-0500
TZOFFSETTO:-0400
TZNAME:EDT
DTSTART:20250309T070000
END:DAYLIGHT
BEGIN:STANDARD
TZOFFSETFROM:-0400
TZOFFSETTO:-0500
TZNAME:EST
DTSTART:20251102T060000
END:STANDARD
BEGIN:DAYLIGHT
TZOFFSETFROM:-0500
TZOFFSETTO:-0400
TZNAME:EDT
DTSTART:20260308T070000
END:DAYLIGHT
BEGIN:STANDARD
TZOFFSETFROM:-0400
TZOFFSETTO:-0500
TZNAME:EST
DTSTART:20261101T060000
END:STANDARD
BEGIN:DAYLIGHT
TZOFFSETFROM:-0500
TZOFFSETTO:-0400
TZNAME:EDT
DTSTART:20270314T070000
END:DAYLIGHT
BEGIN:STANDARD
TZOFFSETFROM:-0400
TZOFFSETTO:-0500
TZNAME:EST
DTSTART:20271107T060000
END:STANDARD
END:VTIMEZONE
BEGIN:VEVENT
DTSTART;TZID=America/New_York:20260512T183000
DTEND;TZID=America/New_York:20260512T190000
DTSTAMP:20260423T160909
CREATED:20260327T181734Z
LAST-MODIFIED:20260327T181734Z
UID:22915-1778610600-1778612400@ascenderpgh.com
SUMMARY:"How To Sell When You Have No Budget" Workshop
DESCRIPTION:Get the tools and tactics to start closing deals without expensive software\, big teams\, or paid lead lists. Hosted by Kyle Guinness. \n\n\n\n\nJoin Ascender and Kyle Guinness\, CEO of Revitalize\, for a one-hour hands-on workshop on how to start closing deals without expensive budgets. \nWhat we’ll cover: \n\nGetting in front of decision-makers\nStructuring a sales call\nFollow-up/Closing\nIntegrating AI into your sales process without breaking the bank\n\nWho Should Attend: \n\nEarly-stage founders who need to generate revenue without a sales team\nEntrepreneurs and small business owners working with limited budgets\nStartup teams looking to build a scrappy\, repeatable sales process\nFreelancers and consultants trying to land more clients\nAnyone curious about using AI to streamline and support their sales efforts\n\n🍢🥂 FOOD & DRINKS INCLUDED WITH YOUR TICKET \nEnjoy refreshing beverages and bites while learning and connecting with other entrepreneurs and Ascender members. \n💻 🪑SPEND THE WHOLE DAY WITH US!\nJoin us before the workshop for a Coworking Day from 9:30 AM – 5 PM.
URL:https://ascenderpgh.com/event/how-to-sell-when-you-have-no-budget-workshop/
LOCATION:Ascender\, 6401 Penn Ave 3rd Floor\, Pittsburgh\, PA\, 15206\, United States
CATEGORIES:Community
ATTACH;FMTTYPE=image/jpeg:https://ascenderpgh.com/wp-content/uploads/2026/03/Newsletter-Banners.jpg
ORGANIZER;CN="Ascender":MAILTO:info@ascenderpgh.com
END:VEVENT
END:VCALENDAR