BEGIN:VCALENDAR
VERSION:2.0
PRODID:-//Ascender - ECPv6.15.20//NONSGML v1.0//EN
CALSCALE:GREGORIAN
METHOD:PUBLISH
X-ORIGINAL-URL:https://ascenderpgh.com
X-WR-CALDESC:Events for Ascender
REFRESH-INTERVAL;VALUE=DURATION:PT1H
X-Robots-Tag:noindex
X-PUBLISHED-TTL:PT1H
BEGIN:VTIMEZONE
TZID:America/New_York
BEGIN:DAYLIGHT
TZOFFSETFROM:-0500
TZOFFSETTO:-0400
TZNAME:EDT
DTSTART:20250309T070000
END:DAYLIGHT
BEGIN:STANDARD
TZOFFSETFROM:-0400
TZOFFSETTO:-0500
TZNAME:EST
DTSTART:20251102T060000
END:STANDARD
BEGIN:DAYLIGHT
TZOFFSETFROM:-0500
TZOFFSETTO:-0400
TZNAME:EDT
DTSTART:20260308T070000
END:DAYLIGHT
BEGIN:STANDARD
TZOFFSETFROM:-0400
TZOFFSETTO:-0500
TZNAME:EST
DTSTART:20261101T060000
END:STANDARD
BEGIN:DAYLIGHT
TZOFFSETFROM:-0500
TZOFFSETTO:-0400
TZNAME:EDT
DTSTART:20270314T070000
END:DAYLIGHT
BEGIN:STANDARD
TZOFFSETFROM:-0400
TZOFFSETTO:-0500
TZNAME:EST
DTSTART:20271107T060000
END:STANDARD
END:VTIMEZONE
BEGIN:VEVENT
DTSTART;TZID=America/New_York:20260428T100000
DTEND;TZID=America/New_York:20260428T120000
DTSTAMP:20260423T144212
CREATED:20260325T140307Z
LAST-MODIFIED:20260325T140307Z
UID:22901-1777370400-1777377600@ascenderpgh.com
SUMMARY:People and Culture Office Hours with Ginny Nemchick
DESCRIPTION:Need help with job descriptions\, equitable hiring\, or management tips? Ginny’s got you. Use this link to schedule a session with Ginny.
URL:https://ascenderpgh.com/event/people-and-culture-office-hours-with-ginny-nemchick-7/
LOCATION:Ascender\, 6401 Penn Ave 3rd Floor\, Pittsburgh\, PA\, 15206\, United States
CATEGORIES:Community
ATTACH;FMTTYPE=image/jpeg:https://ascenderpgh.com/wp-content/uploads/2024/09/HR-Office-Hours-Ginny-Nemchick-scaled-e1726813540994.jpg
ORGANIZER;CN="Ascender":MAILTO:info@ascenderpgh.com
END:VEVENT
END:VCALENDAR