BEGIN:VCALENDAR
VERSION:2.0
PRODID:-//Ascender - ECPv6.15.20//NONSGML v1.0//EN
CALSCALE:GREGORIAN
METHOD:PUBLISH
X-ORIGINAL-URL:https://ascenderpgh.com
X-WR-CALDESC:Events for Ascender
REFRESH-INTERVAL;VALUE=DURATION:PT1H
X-Robots-Tag:noindex
X-PUBLISHED-TTL:PT1H
BEGIN:VTIMEZONE
TZID:America/New_York
BEGIN:DAYLIGHT
TZOFFSETFROM:-0500
TZOFFSETTO:-0400
TZNAME:EDT
DTSTART:20250309T070000
END:DAYLIGHT
BEGIN:STANDARD
TZOFFSETFROM:-0400
TZOFFSETTO:-0500
TZNAME:EST
DTSTART:20251102T060000
END:STANDARD
BEGIN:DAYLIGHT
TZOFFSETFROM:-0500
TZOFFSETTO:-0400
TZNAME:EDT
DTSTART:20260308T070000
END:DAYLIGHT
BEGIN:STANDARD
TZOFFSETFROM:-0400
TZOFFSETTO:-0500
TZNAME:EST
DTSTART:20261101T060000
END:STANDARD
BEGIN:DAYLIGHT
TZOFFSETFROM:-0500
TZOFFSETTO:-0400
TZNAME:EDT
DTSTART:20270314T070000
END:DAYLIGHT
BEGIN:STANDARD
TZOFFSETFROM:-0400
TZOFFSETTO:-0500
TZNAME:EST
DTSTART:20271107T060000
END:STANDARD
END:VTIMEZONE
BEGIN:VEVENT
DTSTART;TZID=America/New_York:20260409T120000
DTEND;TZID=America/New_York:20260409T140000
DTSTAMP:20260423T144339
CREATED:20260325T135143Z
LAST-MODIFIED:20260325T135143Z
UID:22888-1775736000-1775743200@ascenderpgh.com
SUMMARY:Marketing & Brand Strategy Office Hours with Madeline Farina
DESCRIPTION:Madeline Farina is a Pittsburgh-based marketing consultant who helps founders and small business owners build authentic brands\, clarify their message\, and create marketing strategies that attract the right customers while staying true to their values. She brings experience across startups\, small businesses\, and larger organizations\, and loves supporting entrepreneurs with the businesses they’re building. \n“What to Expect” Overview \n\n– Clarifying their brand and messaging\, including ideal customer\, positioning\, and how to talk about what they do.\n– Practical marketing strategy questions such as what to post on social media\, how to improve their website\, or how to promote an upcoming launch or event.\n– Feedback on existing materials like Instagram accounts\, websites\, email newsletters\, or marketing ideas they want to pressure-test.\n\nREGISTER HERE
URL:https://ascenderpgh.com/event/marketing-brand-strategy-office-hours-with-madeline-farina-4/
LOCATION:Ascender\, 6401 Penn Ave 3rd Floor\, Pittsburgh\, PA\, 15206\, United States
CATEGORIES:Community
ATTACH;FMTTYPE=image/jpeg:https://ascenderpgh.com/wp-content/uploads/2026/02/Office-Hours-2024-2025-1-e1770136478395.jpg
ORGANIZER;CN="Ascender":MAILTO:info@ascenderpgh.com
END:VEVENT
END:VCALENDAR