BEGIN:VCALENDAR
VERSION:2.0
PRODID:-//Ascender - ECPv6.15.20//NONSGML v1.0//EN
CALSCALE:GREGORIAN
METHOD:PUBLISH
X-WR-CALNAME:Ascender
X-ORIGINAL-URL:https://ascenderpgh.com
X-WR-CALDESC:Events for Ascender
REFRESH-INTERVAL;VALUE=DURATION:PT1H
X-Robots-Tag:noindex
X-PUBLISHED-TTL:PT1H
BEGIN:VTIMEZONE
TZID:America/New_York
BEGIN:DAYLIGHT
TZOFFSETFROM:-0500
TZOFFSETTO:-0400
TZNAME:EDT
DTSTART:20250309T070000
END:DAYLIGHT
BEGIN:STANDARD
TZOFFSETFROM:-0400
TZOFFSETTO:-0500
TZNAME:EST
DTSTART:20251102T060000
END:STANDARD
BEGIN:DAYLIGHT
TZOFFSETFROM:-0500
TZOFFSETTO:-0400
TZNAME:EDT
DTSTART:20260308T070000
END:DAYLIGHT
BEGIN:STANDARD
TZOFFSETFROM:-0400
TZOFFSETTO:-0500
TZNAME:EST
DTSTART:20261101T060000
END:STANDARD
BEGIN:DAYLIGHT
TZOFFSETFROM:-0500
TZOFFSETTO:-0400
TZNAME:EDT
DTSTART:20270314T070000
END:DAYLIGHT
BEGIN:STANDARD
TZOFFSETFROM:-0400
TZOFFSETTO:-0500
TZNAME:EST
DTSTART:20271107T060000
END:STANDARD
END:VTIMEZONE
BEGIN:VEVENT
DTSTART;TZID=America/New_York:20260505T100000
DTEND;TZID=America/New_York:20260505T120000
DTSTAMP:20260423T143917
CREATED:20260331T133306Z
LAST-MODIFIED:20260331T133306Z
UID:22925-1777975200-1777982400@ascenderpgh.com
SUMMARY:Product Strategy Office Hours with Mike Capsambelis
DESCRIPTION:Book a FREE 30-minute session with Mike\, Director\, Product Management\, Google.
URL:https://ascenderpgh.com/event/product-strategy-office-hours-with-mike-capsambelis-18/
LOCATION:Ascender\, 6401 Penn Ave 3rd Floor\, Pittsburgh\, PA\, 15206\, United States
CATEGORIES:Community
ATTACH;FMTTYPE=image/jpeg:https://ascenderpgh.com/wp-content/uploads/2025/06/Office-Hours-2024-2025-e1752174904903.jpg
ORGANIZER;CN="Ascender":MAILTO:info@ascenderpgh.com
END:VEVENT
BEGIN:VEVENT
DTSTART;TZID=America/New_York:20260506T100000
DTEND;TZID=America/New_York:20260506T120000
DTSTAMP:20260423T143917
CREATED:20260331T132938Z
LAST-MODIFIED:20260331T132938Z
UID:22921-1778061600-1778068800@ascenderpgh.com
SUMMARY:Executive Coaching & Business Strategy Office Hours with Erin Bestic
DESCRIPTION:Bring your toughest business challenges\, half-baked ideas\, and “we need this done yesterday” problems. In these candid\, action-focused sessions\, you’ll get practical\, no-fluff guidance from Erin Bestic\, a strategist who’s led billion-dollar sales portfolios\, overhauled operations\, and coached leaders at every stage of growth. \nBook your Free 30-Minutes
URL:https://ascenderpgh.com/event/executive-coaching-business-strategy-office-hours-with-erin-bestic-10/
LOCATION:Ascender\, 6401 Penn Ave 3rd Floor\, Pittsburgh\, PA\, 15206\, United States
CATEGORIES:Community
ATTACH;FMTTYPE=image/jpeg:https://ascenderpgh.com/wp-content/uploads/2025/11/Office-Hours-2024-2025-e1765251047633.jpg
ORGANIZER;CN="Ascender":MAILTO:info@ascenderpgh.com
END:VEVENT
BEGIN:VEVENT
DTSTART;TZID=America/New_York:20260507T120000
DTEND;TZID=America/New_York:20260507T140000
DTSTAMP:20260423T143917
CREATED:20260325T135315Z
LAST-MODIFIED:20260325T135315Z
UID:22890-1778155200-1778162400@ascenderpgh.com
SUMMARY:Marketing & Brand Strategy Office Hours with Madeline Farina
DESCRIPTION:Madeline Farina is a Pittsburgh-based marketing consultant who helps founders and small business owners build authentic brands\, clarify their message\, and create marketing strategies that attract the right customers while staying true to their values. She brings experience across startups\, small businesses\, and larger organizations\, and loves supporting entrepreneurs with the businesses they’re building. \n“What to Expect” Overview \n\n– Clarifying their brand and messaging\, including ideal customer\, positioning\, and how to talk about what they do.\n– Practical marketing strategy questions such as what to post on social media\, how to improve their website\, or how to promote an upcoming launch or event.\n– Feedback on existing materials like Instagram accounts\, websites\, email newsletters\, or marketing ideas they want to pressure-test.\n\nREGISTER HERE
URL:https://ascenderpgh.com/event/marketing-brand-strategy-office-hours-with-madeline-farina-5/
LOCATION:Ascender\, 6401 Penn Ave 3rd Floor\, Pittsburgh\, PA\, 15206\, United States
CATEGORIES:Community
ATTACH;FMTTYPE=image/jpeg:https://ascenderpgh.com/wp-content/uploads/2026/02/Office-Hours-2024-2025-1-e1770136478395.jpg
ORGANIZER;CN="Ascender":MAILTO:info@ascenderpgh.com
END:VEVENT
BEGIN:VEVENT
DTSTART;TZID=America/New_York:20260512T183000
DTEND;TZID=America/New_York:20260512T190000
DTSTAMP:20260423T143917
CREATED:20260327T181734Z
LAST-MODIFIED:20260327T181734Z
UID:22915-1778610600-1778612400@ascenderpgh.com
SUMMARY:"How To Sell When You Have No Budget" Workshop
DESCRIPTION:Get the tools and tactics to start closing deals without expensive software\, big teams\, or paid lead lists. Hosted by Kyle Guinness. \n\n\n\n\nJoin Ascender and Kyle Guinness\, CEO of Revitalize\, for a one-hour hands-on workshop on how to start closing deals without expensive budgets. \nWhat we’ll cover: \n\nGetting in front of decision-makers\nStructuring a sales call\nFollow-up/Closing\nIntegrating AI into your sales process without breaking the bank\n\nWho Should Attend: \n\nEarly-stage founders who need to generate revenue without a sales team\nEntrepreneurs and small business owners working with limited budgets\nStartup teams looking to build a scrappy\, repeatable sales process\nFreelancers and consultants trying to land more clients\nAnyone curious about using AI to streamline and support their sales efforts\n\n🍢🥂 FOOD & DRINKS INCLUDED WITH YOUR TICKET \nEnjoy refreshing beverages and bites while learning and connecting with other entrepreneurs and Ascender members. \n💻 🪑SPEND THE WHOLE DAY WITH US!\nJoin us before the workshop for a Coworking Day from 9:30 AM – 5 PM.
URL:https://ascenderpgh.com/event/how-to-sell-when-you-have-no-budget-workshop/
LOCATION:Ascender\, 6401 Penn Ave 3rd Floor\, Pittsburgh\, PA\, 15206\, United States
CATEGORIES:Community
ATTACH;FMTTYPE=image/jpeg:https://ascenderpgh.com/wp-content/uploads/2026/03/Newsletter-Banners.jpg
ORGANIZER;CN="Ascender":MAILTO:info@ascenderpgh.com
END:VEVENT
BEGIN:VEVENT
DTSTART;TZID=America/New_York:20260519T100000
DTEND;TZID=America/New_York:20260519T120000
DTSTAMP:20260423T143917
CREATED:20260331T133421Z
LAST-MODIFIED:20260331T133421Z
UID:22927-1779184800-1779192000@ascenderpgh.com
SUMMARY:Product Strategy Office Hours with Mike Capsambelis
DESCRIPTION:Book a FREE 30-minute session with Mike\, Director\, Product Management\, Google.
URL:https://ascenderpgh.com/event/product-strategy-office-hours-with-mike-capsambelis-19/
LOCATION:Ascender\, 6401 Penn Ave 3rd Floor\, Pittsburgh\, PA\, 15206\, United States
CATEGORIES:Community
ATTACH;FMTTYPE=image/jpeg:https://ascenderpgh.com/wp-content/uploads/2025/06/Office-Hours-2024-2025-e1752174904903.jpg
ORGANIZER;CN="Ascender":MAILTO:info@ascenderpgh.com
END:VEVENT
BEGIN:VEVENT
DTSTART;TZID=America/New_York:20260521T120000
DTEND;TZID=America/New_York:20260521T140000
DTSTAMP:20260423T143917
CREATED:20260325T135422Z
LAST-MODIFIED:20260325T135422Z
UID:22892-1779364800-1779372000@ascenderpgh.com
SUMMARY:Marketing & Brand Strategy Office Hours with Madeline Farina
DESCRIPTION:Madeline Farina is a Pittsburgh-based marketing consultant who helps founders and small business owners build authentic brands\, clarify their message\, and create marketing strategies that attract the right customers while staying true to their values. She brings experience across startups\, small businesses\, and larger organizations\, and loves supporting entrepreneurs with the businesses they’re building. \n“What to Expect” Overview \n\n– Clarifying their brand and messaging\, including ideal customer\, positioning\, and how to talk about what they do.\n– Practical marketing strategy questions such as what to post on social media\, how to improve their website\, or how to promote an upcoming launch or event.\n– Feedback on existing materials like Instagram accounts\, websites\, email newsletters\, or marketing ideas they want to pressure-test.\n\nREGISTER HERE
URL:https://ascenderpgh.com/event/marketing-brand-strategy-office-hours-with-madeline-farina-6/
LOCATION:Ascender\, 6401 Penn Ave 3rd Floor\, Pittsburgh\, PA\, 15206\, United States
CATEGORIES:Community
ATTACH;FMTTYPE=image/jpeg:https://ascenderpgh.com/wp-content/uploads/2026/02/Office-Hours-2024-2025-1-e1770136478395.jpg
ORGANIZER;CN="Ascender":MAILTO:info@ascenderpgh.com
END:VEVENT
BEGIN:VEVENT
DTSTART;TZID=America/New_York:20260521T130000
DTEND;TZID=America/New_York:20260521T160000
DTSTAMP:20260423T143917
CREATED:20260325T140934Z
LAST-MODIFIED:20260325T140934Z
UID:22906-1779368400-1779379200@ascenderpgh.com
SUMMARY:Tech & Law Office Hours with Wei Yu
DESCRIPTION:Navigating legal stuff in the AI era Book a FREE 30-minute session with Wei\, an Intellectual Property Attorney. Use this link to schedule a session with Wei.
URL:https://ascenderpgh.com/event/tech-law-office-hours-with-wei-yu-7/
LOCATION:Ascender\, 6401 Penn Ave 3rd Floor\, Pittsburgh\, PA\, 15206\, United States
CATEGORIES:Community
ATTACH;FMTTYPE=image/png:https://ascenderpgh.com/wp-content/uploads/2024/09/Wei-Yu-e1727191350120.png
ORGANIZER;CN="Ascender":MAILTO:info@ascenderpgh.com
END:VEVENT
BEGIN:VEVENT
DTSTART;TZID=America/New_York:20260527T120000
DTEND;TZID=America/New_York:20260527T130000
DTSTAMP:20260423T143917
CREATED:20260319T185040Z
LAST-MODIFIED:20260319T185040Z
UID:22850-1779883200-1779886800@ascenderpgh.com
SUMMARY:Brown Bag Lunch at Ascender
DESCRIPTION:Bring your lunch and join us for a casual\, interactive learning experience designed for founders who are actively building. Each session focuses on a practical business topic\, broken down at a foundational level so you can learn\, ask questions\, and walk away with insights you can immediately implement. Along the way\, you’ll connect with fellow Ascender members\, meet new founders\, and share real experiences from your entrepreneurial journey. \nHappening the last Wednesday of every month\, come grow\, learn\, and build community with us.
URL:https://ascenderpgh.com/event/brown-bag-lunch-at-ascender-4/
LOCATION:Ascender\, 6401 Penn Ave 3rd Floor\, Pittsburgh\, PA\, 15206\, United States
CATEGORIES:Community
ATTACH;FMTTYPE=image/png:https://ascenderpgh.com/wp-content/uploads/2026/01/Newsletter-Banners-3.png
ORGANIZER;CN="Ascender":MAILTO:info@ascenderpgh.com
END:VEVENT
END:VCALENDAR